Package: AlphaMissenseR Version: 1.3.0 Command: /home/biocbuild/R/R/bin/R CMD build --keep-empty-dirs --no-resave-data AlphaMissenseR StartedAt: 2025-01-28 20:45:16 -0000 (Tue, 28 Jan 2025) EndedAt: 2025-01-28 21:25:17 -0000 (Tue, 28 Jan 2025) EllapsedTime: 2400.7 seconds RetCode: None Status: TIMEOUT PackageFile: None PackageFileSize: NA