Package: AlphaMissenseR Version: 1.3.0 Command: rm -rf AlphaMissenseR.buildbin-libdir && mkdir AlphaMissenseR.buildbin-libdir && /Users/biocbuild/BBS/utils/build-universal.sh AlphaMissenseR_1.3.0.tar.gz /Library/Frameworks/R.framework/Resources/bin/R AlphaMissenseR.buildbin-libdir StartedAt: 2025-02-03 00:11:40 -0500 (Mon, 03 Feb 2025) EndedAt: 2025-02-03 00:11:54 -0500 (Mon, 03 Feb 2025) EllapsedTime: 13.7 seconds RetCode: 0 Status: OK PackageFile: AlphaMissenseR_1.3.0.tgz PackageFileSize: 2.745 MiB