Package: AlphaMissenseR Version: 1.3.0 Command: /Library/Frameworks/R.framework/Resources/bin/R CMD build --keep-empty-dirs --no-resave-data AlphaMissenseR StartedAt: 2025-02-09 15:53:04 -0500 (Sun, 09 Feb 2025) EndedAt: 2025-02-09 16:16:20 -0500 (Sun, 09 Feb 2025) EllapsedTime: 1395.9 seconds RetCode: 0 Status: OK PackageFile: AlphaMissenseR_1.3.0.tar.gz PackageFileSize: 2.802 MiB