Package: AlphaMissenseR Version: 1.3.0 Command: /Library/Frameworks/R.framework/Resources/bin/R CMD check --install=check:AlphaMissenseR.install-out.txt --library=/Library/Frameworks/R.framework/Resources/library --no-vignettes --timings AlphaMissenseR_1.3.0.tar.gz StartedAt: 2025-02-02 18:47:05 -0500 (Sun, 02 Feb 2025) EndedAt: 2025-02-02 18:49:12 -0500 (Sun, 02 Feb 2025) EllapsedTime: 127.6 seconds RetCode: 0 Status: OK CheckDir: AlphaMissenseR.Rcheck Warnings: 0