Package: AlphaMissenseR Version: 1.3.0 Command: /home/biocbuild/bbs-3.21-bioc/R/bin/R CMD check --install=check:AlphaMissenseR.install-out.txt --library=/home/biocbuild/bbs-3.21-bioc/R/site-library --timings AlphaMissenseR_1.3.0.tar.gz StartedAt: 2025-02-09 19:58:20 -0500 (Sun, 09 Feb 2025) EndedAt: 2025-02-09 20:01:53 -0500 (Sun, 09 Feb 2025) EllapsedTime: 212.3 seconds RetCode: 0 Status: OK CheckDir: AlphaMissenseR.Rcheck Warnings: 0