Package: AlphaMissenseR Version: 1.3.0 Command: /home/biocbuild/bbs-3.21-bioc/R/bin/R CMD INSTALL AlphaMissenseR StartedAt: 2025-02-03 15:18:47 -0500 (Mon, 03 Feb 2025) EndedAt: 2025-02-03 15:18:59 -0500 (Mon, 03 Feb 2025) EllapsedTime: 11.1 seconds RetCode: 0 Status: OK