Package: AlphaMissenseR Version: 1.3.0 Command: chmod a+r AlphaMissenseR -R && E:\biocbuild\bbs-3.21-bioc\R\bin\R.exe CMD build --keep-empty-dirs --no-resave-data AlphaMissenseR StartedAt: 2025-02-09 17:12:03 -0500 (Sun, 09 Feb 2025) EndedAt: 2025-02-09 17:17:17 -0500 (Sun, 09 Feb 2025) EllapsedTime: 314.5 seconds RetCode: 0 Status: OK PackageFile: AlphaMissenseR_1.3.0.tar.gz PackageFileSize: 2.644 MiB