Package: AlphaMissenseR Version: 1.3.0 Command: E:\biocbuild\bbs-3.21-bioc\R\bin\R.exe CMD check --no-multiarch --install=check:AlphaMissenseR.install-out.txt --library=E:\biocbuild\bbs-3.21-bioc\R\library --no-vignettes --timings AlphaMissenseR_1.3.0.tar.gz StartedAt: 2025-02-03 23:03:42 -0500 (Mon, 03 Feb 2025) EndedAt: 2025-02-03 23:06:00 -0500 (Mon, 03 Feb 2025) EllapsedTime: 138.1 seconds RetCode: 0 Status: OK CheckDir: AlphaMissenseR.Rcheck Warnings: 0