Package: AlphaMissenseR Version: 1.3.0 Command: E:\biocbuild\bbs-3.21-bioc\R\bin\R.exe CMD INSTALL AlphaMissenseR StartedAt: 2025-02-03 16:02:58 -0500 (Mon, 03 Feb 2025) EndedAt: 2025-02-03 16:03:27 -0500 (Mon, 03 Feb 2025) EllapsedTime: 28.8 seconds RetCode: 0 Status: OK