Package: AlpsNMR Version: 4.9.0 Command: /Library/Frameworks/R.framework/Resources/bin/R CMD build --keep-empty-dirs --no-resave-data AlpsNMR StartedAt: 2025-02-12 15:51:54 -0500 (Wed, 12 Feb 2025) EndedAt: 2025-02-12 15:54:20 -0500 (Wed, 12 Feb 2025) EllapsedTime: 145.6 seconds RetCode: 0 Status: OK PackageFile: AlpsNMR_4.9.0.tar.gz PackageFileSize: 3.698 MiB