Package: AlpsNMR Version: 4.9.0 Command: rm -rf AlpsNMR.buildbin-libdir && mkdir AlpsNMR.buildbin-libdir && E:\biocbuild\bbs-3.21-bioc\R\bin\R.exe CMD INSTALL --build --library=AlpsNMR.buildbin-libdir AlpsNMR_4.9.0.tar.gz StartedAt: 2025-02-10 07:11:40 -0500 (Mon, 10 Feb 2025) EndedAt: 2025-02-10 07:12:59 -0500 (Mon, 10 Feb 2025) EllapsedTime: 78.3 seconds RetCode: 0 Status: OK PackageFile: AlpsNMR_4.9.0.zip PackageFileSize: 4.196 MiB