Package: AlpsNMR Version: 4.9.0 Command: E:\biocbuild\bbs-3.21-bioc\R\bin\R.exe CMD check --no-multiarch --install=check:AlpsNMR.install-out.txt --library=E:\biocbuild\bbs-3.21-bioc\R\library --no-vignettes --timings AlpsNMR_4.9.0.tar.gz StartedAt: 2025-02-12 22:42:03 -0500 (Wed, 12 Feb 2025) EndedAt: 2025-02-12 22:51:58 -0500 (Wed, 12 Feb 2025) EllapsedTime: 594.9 seconds RetCode: 0 Status: OK CheckDir: AlpsNMR.Rcheck Warnings: 0