Package: AnVIL Version: 1.19.8 Maintainer: Marcel Ramos MaintainerEmail: marcel.ramos at sph.cuny.edu git_url: https://git.bioconductor.org/packages/AnVIL git_branch: devel git_last_commit: 8a3a5f4 git_last_commit_date: 2025-01-24 10:26:09 -0500 (Fri, 24 Jan 2025)