Package: AnVIL Version: 1.19.8 Command: rm -rf AnVIL.buildbin-libdir && mkdir AnVIL.buildbin-libdir && /Users/biocbuild/BBS/utils/build-universal.sh AnVIL_1.19.8.tar.gz /Library/Frameworks/R.framework/Resources/bin/R AnVIL.buildbin-libdir StartedAt: 2025-02-09 22:05:54 -0500 (Sun, 09 Feb 2025) EndedAt: 2025-02-09 22:05:57 -0500 (Sun, 09 Feb 2025) EllapsedTime: 3.1 seconds RetCode: 0 Status: OK PackageFile: AnVIL_1.19.8.tgz PackageFileSize: 1.166 MiB