Package: AnVIL Version: 1.19.8 Command: /Library/Frameworks/R.framework/Resources/bin/R CMD build --keep-empty-dirs --no-resave-data AnVIL StartedAt: 2025-02-09 15:33:20 -0500 (Sun, 09 Feb 2025) EndedAt: 2025-02-09 15:33:27 -0500 (Sun, 09 Feb 2025) EllapsedTime: 7.1 seconds RetCode: 0 Status: OK PackageFile: AnVIL_1.19.8.tar.gz PackageFileSize: 1.191 MiB