Package: AnVIL Version: 1.19.8 Command: /Library/Frameworks/R.framework/Resources/bin/R CMD INSTALL AnVIL StartedAt: 2025-02-09 15:15:12 -0500 (Sun, 09 Feb 2025) EndedAt: 2025-02-09 15:15:14 -0500 (Sun, 09 Feb 2025) EllapsedTime: 2.3 seconds RetCode: 0 Status: OK