Package: AnVIL Version: 1.19.8 Command: /home/biocbuild/R/R/bin/R CMD check --install=check:AnVIL.install-out.txt --library=/home/biocbuild/R/R/site-library --no-vignettes --timings AnVIL_1.19.8.tar.gz StartedAt: 2025-01-28 03:33:41 -0000 (Tue, 28 Jan 2025) EndedAt: 2025-01-28 03:34:35 -0000 (Tue, 28 Jan 2025) EllapsedTime: 54.1 seconds RetCode: 0 Status: OK CheckDir: AnVIL.Rcheck Warnings: 0