############################################################################## ############################################################################## ### ### Running command: ### ### /Library/Frameworks/R.framework/Resources/bin/R CMD build --keep-empty-dirs --no-resave-data AnVIL ### ############################################################################## ############################################################################## * checking for file ‘AnVIL/DESCRIPTION’ ... OK * preparing ‘AnVIL’: * checking DESCRIPTION meta-information ... OK * installing the package to build vignettes * creating vignettes ... OK * checking for LF line-endings in source and make files and shell scripts * checking for empty or unneeded directories * looking to see if a ‘data/datalist’ file should be added NB: this package now depends on R (>= 4.1.0) WARNING: Added dependency on R >= 4.1.0 because package code uses the pipe |> or function shorthand \(...) syntax added in R 4.1.0. File(s) using such syntax: ‘av.R’ ‘avworkflow.R’ ‘avworkflow_configuration.R’ ‘drs.R’ ‘gadgets.R’ ‘gcloud.R’ ‘gsutil.R’ ‘utilities.R’ * building ‘AnVIL_1.19.8.tar.gz’