Package: AnVIL Version: 1.19.8 Command: /Library/Frameworks/R.framework/Resources/bin/R CMD check --install=check:AnVIL.install-out.txt --library=/Library/Frameworks/R.framework/Resources/library --no-vignettes --timings AnVIL_1.19.8.tar.gz StartedAt: 2025-02-09 19:04:26 -0500 (Sun, 09 Feb 2025) EndedAt: 2025-02-09 19:05:27 -0500 (Sun, 09 Feb 2025) EllapsedTime: 61.2 seconds RetCode: 0 Status: OK CheckDir: AnVIL.Rcheck Warnings: 0