Package: AnVIL Version: 1.19.8 Command: /home/biocbuild/bbs-3.21-bioc/R/bin/R CMD check --install=check:AnVIL.install-out.txt --library=/home/biocbuild/bbs-3.21-bioc/R/site-library --timings AnVIL_1.19.8.tar.gz StartedAt: 2025-02-12 19:57:45 -0500 (Wed, 12 Feb 2025) EndedAt: 2025-02-12 19:58:54 -0500 (Wed, 12 Feb 2025) EllapsedTime: 69.1 seconds RetCode: 1 Status: ERROR CheckDir: AnVIL.Rcheck Warnings: NA