Package: AnVIL Version: 1.19.8 Command: chmod a+r AnVIL -R && E:\biocbuild\bbs-3.21-bioc\R\bin\R.exe CMD build --keep-empty-dirs --no-resave-data AnVIL StartedAt: 2025-02-09 17:14:18 -0500 (Sun, 09 Feb 2025) EndedAt: 2025-02-09 17:15:20 -0500 (Sun, 09 Feb 2025) EllapsedTime: 62.7 seconds RetCode: 0 Status: OK PackageFile: AnVIL_1.19.8.tar.gz PackageFileSize: 1.192 MiB