Package: AnVIL Version: 1.19.8 Command: E:\biocbuild\bbs-3.21-bioc\R\bin\R.exe CMD check --no-multiarch --install=check:AnVIL.install-out.txt --library=E:\biocbuild\bbs-3.21-bioc\R\library --no-vignettes --timings AnVIL_1.19.8.tar.gz StartedAt: 2025-02-12 22:45:47 -0500 (Wed, 12 Feb 2025) EndedAt: 2025-02-12 22:46:57 -0500 (Wed, 12 Feb 2025) EllapsedTime: 69.4 seconds RetCode: 0 Status: OK CheckDir: AnVIL.Rcheck Warnings: 0