############################################################################## ############################################################################## ### ### Running command: ### ### /Library/Frameworks/R.framework/Resources/bin/R CMD build --keep-empty-dirs --no-resave-data AnVILAz ### ############################################################################## ############################################################################## * checking for file ‘AnVILAz/DESCRIPTION’ ... OK * preparing ‘AnVILAz’: * checking DESCRIPTION meta-information ... OK * installing the package to build vignettes * creating vignettes ... OK * checking for LF line-endings in source and make files and shell scripts * checking for empty or unneeded directories NB: this package now depends on R (>= 4.1.0) WARNING: Added dependency on R >= 4.1.0 because package code uses the pipe |> or function shorthand \(...) syntax added in R 4.1.0. File(s) using such syntax: ‘avtable-methods.R’ ‘avworkflow-methods.R’ ‘avworkspace-methods.R’ ‘az_sas_token.R’ ‘resources.R’ ‘workspace-dev-ops.R’ ‘workspace_env.R’ * building ‘AnVILAz_1.1.0.tar.gz’