Package: AnVILAz Version: 1.1.0 Command: /Library/Frameworks/R.framework/Resources/bin/R CMD build --keep-empty-dirs --no-resave-data AnVILAz StartedAt: 2025-02-09 15:54:15 -0500 (Sun, 09 Feb 2025) EndedAt: 2025-02-09 15:54:29 -0500 (Sun, 09 Feb 2025) EllapsedTime: 14.8 seconds RetCode: 0 Status: OK PackageFile: AnVILAz_1.1.0.tar.gz PackageFileSize: 826.1 KiB