Package: AnVILAz Version: 1.1.0 Command: E:\biocbuild\bbs-3.21-bioc\R\bin\R.exe CMD check --no-multiarch --install=check:AnVILAz.install-out.txt --library=E:\biocbuild\bbs-3.21-bioc\R\library --no-vignettes --timings AnVILAz_1.1.0.tar.gz StartedAt: 2025-02-04 23:03:40 -0500 (Tue, 04 Feb 2025) EndedAt: 2025-02-04 23:04:21 -0500 (Tue, 04 Feb 2025) EllapsedTime: 41.1 seconds RetCode: 0 Status: OK CheckDir: AnVILAz.Rcheck Warnings: 0