Package: AnVILBase Version: 1.1.0 Command: /Library/Frameworks/R.framework/Resources/bin/R CMD build --keep-empty-dirs --no-resave-data AnVILBase StartedAt: 2025-02-04 15:33:36 -0500 (Tue, 04 Feb 2025) EndedAt: 2025-02-04 15:33:39 -0500 (Tue, 04 Feb 2025) EllapsedTime: 3.0 seconds RetCode: 0 Status: OK PackageFile: AnVILBase_1.1.0.tar.gz PackageFileSize: 227.8 KiB