Package: AnVILBase Version: 1.1.0 Command: /Library/Frameworks/R.framework/Resources/bin/R CMD INSTALL AnVILBase StartedAt: 2025-02-04 15:03:51 -0500 (Tue, 04 Feb 2025) EndedAt: 2025-02-04 15:03:54 -0500 (Tue, 04 Feb 2025) EllapsedTime: 2.2 seconds RetCode: 0 Status: OK