Package: AnVILBase Version: 1.1.0 Command: rm -rf AnVILBase.buildbin-libdir && mkdir AnVILBase.buildbin-libdir && /Users/biocbuild/BBS/utils/build-universal.sh AnVILBase_1.1.0.tar.gz /Library/Frameworks/R.framework/Resources/bin/R AnVILBase.buildbin-libdir StartedAt: 2025-02-10 00:41:54 -0500 (Mon, 10 Feb 2025) EndedAt: 2025-02-10 00:42:01 -0500 (Mon, 10 Feb 2025) EllapsedTime: 7.0 seconds RetCode: 0 Status: OK PackageFile: AnVILBase_1.1.0.tgz PackageFileSize: 309.1 KiB