Package: AnVILBase Version: 1.1.0 Command: /Library/Frameworks/R.framework/Resources/bin/R CMD build --keep-empty-dirs --no-resave-data AnVILBase StartedAt: 2025-02-09 15:54:16 -0500 (Sun, 09 Feb 2025) EndedAt: 2025-02-09 15:54:26 -0500 (Sun, 09 Feb 2025) EllapsedTime: 10.2 seconds RetCode: 0 Status: OK PackageFile: AnVILBase_1.1.0.tar.gz PackageFileSize: 227.8 KiB