Package: AnVILBase Version: 1.1.0 Command: /Library/Frameworks/R.framework/Resources/bin/R CMD INSTALL AnVILBase StartedAt: 2025-02-09 15:08:05 -0500 (Sun, 09 Feb 2025) EndedAt: 2025-02-09 15:08:32 -0500 (Sun, 09 Feb 2025) EllapsedTime: 27.5 seconds RetCode: 0 Status: OK