Package: AnVILBase Version: 1.1.0 Command: /home/biocbuild/bbs-3.21-bioc/R/bin/R CMD check --install=check:AnVILBase.install-out.txt --library=/home/biocbuild/bbs-3.21-bioc/R/site-library --timings AnVILBase_1.1.0.tar.gz StartedAt: 2025-02-04 19:59:08 -0500 (Tue, 04 Feb 2025) EndedAt: 2025-02-04 19:59:35 -0500 (Tue, 04 Feb 2025) EllapsedTime: 27.0 seconds RetCode: 0 Status: OK CheckDir: AnVILBase.Rcheck Warnings: 0