Package: AnVILBase Version: 1.1.0 Command: rm -rf AnVILBase.buildbin-libdir && mkdir AnVILBase.buildbin-libdir && E:\biocbuild\bbs-3.21-bioc\R\bin\R.exe CMD INSTALL --build --library=AnVILBase.buildbin-libdir AnVILBase_1.1.0.tar.gz StartedAt: 2025-02-10 07:12:51 -0500 (Mon, 10 Feb 2025) EndedAt: 2025-02-10 07:13:25 -0500 (Mon, 10 Feb 2025) EllapsedTime: 34.3 seconds RetCode: 0 Status: OK PackageFile: AnVILBase_1.1.0.zip PackageFileSize: 313.1 KiB