Package: AnVILBase Version: 1.1.0 Command: E:\biocbuild\bbs-3.21-bioc\R\bin\R.exe CMD check --no-multiarch --install=check:AnVILBase.install-out.txt --library=E:\biocbuild\bbs-3.21-bioc\R\library --no-vignettes --timings AnVILBase_1.1.0.tar.gz StartedAt: 2025-02-09 22:38:05 -0500 (Sun, 09 Feb 2025) EndedAt: 2025-02-09 22:38:47 -0500 (Sun, 09 Feb 2025) EllapsedTime: 41.6 seconds RetCode: 0 Status: OK CheckDir: AnVILBase.Rcheck Warnings: 0