Package: AnVILPublish Version: 1.17.0 Maintainer: Marcel Ramos MaintainerEmail: marcel.ramos at sph.cuny.edu git_url: https://git.bioconductor.org/packages/AnVILPublish git_branch: devel git_last_commit: ff5bfe9 git_last_commit_date: 2024-10-29 10:51:57 -0500 (Tue, 29 Oct 2024)