Package: AnVILPublish Version: 1.17.0 Command: /Library/Frameworks/R.framework/Resources/bin/R CMD build --keep-empty-dirs --no-resave-data AnVILPublish StartedAt: 2025-02-04 15:33:39 -0500 (Tue, 04 Feb 2025) EndedAt: 2025-02-04 15:33:43 -0500 (Tue, 04 Feb 2025) EllapsedTime: 4.1 seconds RetCode: 0 Status: OK PackageFile: AnVILPublish_1.17.0.tar.gz PackageFileSize: 236.1 KiB