Package: AnVILPublish Version: 1.17.0 Command: /Library/Frameworks/R.framework/Resources/bin/R CMD INSTALL AnVILPublish StartedAt: 2025-02-04 15:24:35 -0500 (Tue, 04 Feb 2025) EndedAt: 2025-02-04 15:24:38 -0500 (Tue, 04 Feb 2025) EllapsedTime: 2.3 seconds RetCode: 0 Status: OK