Package: AnVILPublish Version: 1.17.0 Command: /home/biocbuild/R/R/bin/R CMD check --install=check:AnVILPublish.install-out.txt --library=/home/biocbuild/R/R/site-library --no-vignettes --timings AnVILPublish_1.17.0.tar.gz StartedAt: 2025-01-28 03:34:08 -0000 (Tue, 28 Jan 2025) EndedAt: 2025-01-28 03:34:47 -0000 (Tue, 28 Jan 2025) EllapsedTime: 39.1 seconds RetCode: 0 Status: OK CheckDir: AnVILPublish.Rcheck Warnings: 0