Package: AnVILPublish Version: 1.17.0 Command: /Library/Frameworks/R.framework/Resources/bin/R CMD check --install=check:AnVILPublish.install-out.txt --library=/Library/Frameworks/R.framework/Resources/library --no-vignettes --timings AnVILPublish_1.17.0.tar.gz StartedAt: 2025-02-04 18:55:44 -0500 (Tue, 04 Feb 2025) EndedAt: 2025-02-04 18:56:31 -0500 (Tue, 04 Feb 2025) EllapsedTime: 46.4 seconds RetCode: 0 Status: OK CheckDir: AnVILPublish.Rcheck Warnings: 0