Package: AnVILPublish Version: 1.17.0 Command: chmod a+r AnVILPublish -R && E:\biocbuild\bbs-3.21-bioc\R\bin\R.exe CMD build --keep-empty-dirs --no-resave-data AnVILPublish StartedAt: 2025-02-04 17:11:44 -0500 (Tue, 04 Feb 2025) EndedAt: 2025-02-04 17:13:32 -0500 (Tue, 04 Feb 2025) EllapsedTime: 107.6 seconds RetCode: 0 Status: OK PackageFile: AnVILPublish_1.17.0.tar.gz PackageFileSize: 236.1 KiB