Package: AnVILPublish Version: 1.17.0 Command: E:\biocbuild\bbs-3.21-bioc\R\bin\R.exe CMD INSTALL AnVILPublish StartedAt: 2025-02-04 16:42:35 -0500 (Tue, 04 Feb 2025) EndedAt: 2025-02-04 16:42:44 -0500 (Tue, 04 Feb 2025) EllapsedTime: 9.7 seconds RetCode: 0 Status: OK