Package: AnVILWorkflow Version: 1.7.2 Command: /home/biocbuild/R/R/bin/R CMD build --keep-empty-dirs --no-resave-data AnVILWorkflow StartedAt: 2025-01-29 20:50:58 -0000 (Wed, 29 Jan 2025) EndedAt: 2025-01-29 20:51:08 -0000 (Wed, 29 Jan 2025) EllapsedTime: 10.0 seconds RetCode: 0 Status: OK PackageFile: AnVILWorkflow_1.7.2.tar.gz PackageFileSize: 1.142 MiB