Package: AnVILWorkflow Version: 1.7.2 Command: rm -rf AnVILWorkflow.buildbin-libdir && mkdir AnVILWorkflow.buildbin-libdir && /Users/biocbuild/BBS/utils/build-universal.sh AnVILWorkflow_1.7.2.tar.gz /Library/Frameworks/R.framework/Resources/bin/R AnVILWorkflow.buildbin-libdir StartedAt: 2025-02-10 00:41:59 -0500 (Mon, 10 Feb 2025) EndedAt: 2025-02-10 00:42:08 -0500 (Mon, 10 Feb 2025) EllapsedTime: 9.4 seconds RetCode: 0 Status: OK PackageFile: AnVILWorkflow_1.7.2.tgz PackageFileSize: 1.016 MiB