Package: AnVILWorkflow Version: 1.7.2 Command: /Library/Frameworks/R.framework/Resources/bin/R CMD build --keep-empty-dirs --no-resave-data AnVILWorkflow StartedAt: 2025-02-09 15:54:26 -0500 (Sun, 09 Feb 2025) EndedAt: 2025-02-09 15:54:41 -0500 (Sun, 09 Feb 2025) EllapsedTime: 14.9 seconds RetCode: 0 Status: OK PackageFile: AnVILWorkflow_1.7.2.tar.gz PackageFileSize: 1.116 MiB