Package: AnVILWorkflow Version: 1.7.2 Command: /Library/Frameworks/R.framework/Resources/bin/R CMD INSTALL AnVILWorkflow StartedAt: 2025-02-09 15:27:09 -0500 (Sun, 09 Feb 2025) EndedAt: 2025-02-09 15:27:16 -0500 (Sun, 09 Feb 2025) EllapsedTime: 7.0 seconds RetCode: 0 Status: OK