Package: AnVILWorkflow Version: 1.7.2 Command: rm -rf AnVILWorkflow.buildbin-libdir && mkdir AnVILWorkflow.buildbin-libdir && E:\biocbuild\bbs-3.21-bioc\R\bin\R.exe CMD INSTALL --build --library=AnVILWorkflow.buildbin-libdir AnVILWorkflow_1.7.2.tar.gz StartedAt: 2025-02-10 07:13:02 -0500 (Mon, 10 Feb 2025) EndedAt: 2025-02-10 07:13:32 -0500 (Mon, 10 Feb 2025) EllapsedTime: 29.5 seconds RetCode: 0 Status: OK PackageFile: AnVILWorkflow_1.7.2.zip PackageFileSize: 1.018 MiB