Package: AnVILWorkflow Version: 1.7.2 Command: chmod a+r AnVILWorkflow -R && E:\biocbuild\bbs-3.21-bioc\R\bin\R.exe CMD build --keep-empty-dirs --no-resave-data AnVILWorkflow StartedAt: 2025-02-09 17:15:06 -0500 (Sun, 09 Feb 2025) EndedAt: 2025-02-09 17:15:32 -0500 (Sun, 09 Feb 2025) EllapsedTime: 26.0 seconds RetCode: 0 Status: OK PackageFile: AnVILWorkflow_1.7.2.tar.gz PackageFileSize: 1.116 MiB