Package: AnVILWorkflow Version: 1.7.2 Command: E:\biocbuild\bbs-3.21-bioc\R\bin\R.exe CMD check --no-multiarch --install=check:AnVILWorkflow.install-out.txt --library=E:\biocbuild\bbs-3.21-bioc\R\library --no-vignettes --timings AnVILWorkflow_1.7.2.tar.gz StartedAt: 2025-02-09 22:38:41 -0500 (Sun, 09 Feb 2025) EndedAt: 2025-02-09 22:39:29 -0500 (Sun, 09 Feb 2025) EllapsedTime: 48.4 seconds RetCode: 0 Status: OK CheckDir: AnVILWorkflow.Rcheck Warnings: 0