Package: AnVILWorkflow Version: 1.7.2 Command: E:\biocbuild\bbs-3.21-bioc\R\bin\R.exe CMD INSTALL AnVILWorkflow StartedAt: 2025-02-09 15:49:23 -0500 (Sun, 09 Feb 2025) EndedAt: 2025-02-09 15:50:05 -0500 (Sun, 09 Feb 2025) EllapsedTime: 42.0 seconds RetCode: 0 Status: OK