Package: AnnotationDbi Version: 1.69.0 Command: rm -rf AnnotationDbi.buildbin-libdir && mkdir AnnotationDbi.buildbin-libdir && /Users/biocbuild/BBS/utils/build-universal.sh AnnotationDbi_1.69.0.tar.gz /Library/Frameworks/R.framework/Resources/bin/R AnnotationDbi.buildbin-libdir StartedAt: 2025-02-09 22:05:47 -0500 (Sun, 09 Feb 2025) EndedAt: 2025-02-09 22:05:57 -0500 (Sun, 09 Feb 2025) EllapsedTime: 9.2 seconds RetCode: 0 Status: OK PackageFile: AnnotationDbi_1.69.0.tgz PackageFileSize: 4.969 MiB