Package: AnnotationDbi Version: 1.69.0 Command: /Library/Frameworks/R.framework/Resources/bin/R CMD check --install=check:AnnotationDbi.install-out.txt --library=/Library/Frameworks/R.framework/Resources/library --no-vignettes --timings AnnotationDbi_1.69.0.tar.gz StartedAt: 2025-02-09 18:02:49 -0500 (Sun, 09 Feb 2025) EndedAt: 2025-02-09 18:05:46 -0500 (Sun, 09 Feb 2025) EllapsedTime: 177.4 seconds RetCode: 0 Status: WARNINGS CheckDir: AnnotationDbi.Rcheck Warnings: 1